BEGIN:VCALENDAR
VERSION:2.0
PRODID:-//Yoga4all - ECPv6.15.20//NONSGML v1.0//EN
CALSCALE:GREGORIAN
METHOD:PUBLISH
X-ORIGINAL-URL:https://yoga4all.at
X-WR-CALDESC:Veranstaltungen für Yoga4all
REFRESH-INTERVAL;VALUE=DURATION:PT1H
X-Robots-Tag:noindex
X-PUBLISHED-TTL:PT1H
BEGIN:VTIMEZONE
TZID:Europe/Vienna
BEGIN:DAYLIGHT
TZOFFSETFROM:+0100
TZOFFSETTO:+0200
TZNAME:CEST
DTSTART:20250330T010000
END:DAYLIGHT
BEGIN:STANDARD
TZOFFSETFROM:+0200
TZOFFSETTO:+0100
TZNAME:CET
DTSTART:20251026T010000
END:STANDARD
BEGIN:DAYLIGHT
TZOFFSETFROM:+0100
TZOFFSETTO:+0200
TZNAME:CEST
DTSTART:20260329T010000
END:DAYLIGHT
BEGIN:STANDARD
TZOFFSETFROM:+0200
TZOFFSETTO:+0100
TZNAME:CET
DTSTART:20261025T010000
END:STANDARD
BEGIN:DAYLIGHT
TZOFFSETFROM:+0100
TZOFFSETTO:+0200
TZNAME:CEST
DTSTART:20270328T010000
END:DAYLIGHT
BEGIN:STANDARD
TZOFFSETFROM:+0200
TZOFFSETTO:+0100
TZNAME:CET
DTSTART:20271031T010000
END:STANDARD
END:VTIMEZONE
BEGIN:VEVENT
DTSTART;VALUE=DATE:20260514
DTEND;VALUE=DATE:20260518
DTSTAMP:20260425T124440
CREATED:20240603T163137Z
LAST-MODIFIED:20260421T124612Z
UID:13293-1778716800-1779062399@yoga4all.at
SUMMARY:Zeit für Dich - entspannen im Bregenzerwald (1 Platz frei)
DESCRIPTION:Yoga Kurzurlaub – wohlfühlen und entspannen \nZeit für Dich Gemütlich\, entspannt und individuell. Das Hotel Bären in Mellau. \nDaniela freut sich schon sehr auf diese besondere Zeit mit dir! Das Yogaprogramm ist für alle Leistungslevel geeignet. \nProgrammDonnerstag\nYogaeinheit 16:30 – 18:30 \nFreitag\nYogaeinheit 07:30 – 09:30\nanschl. gemeinsames Frühstück und der Tag zur freien Verfügung\nYogaeinheit 16:30 – 18:30 \nSamstag\nYogaeinheit 07:30 – 09:30\nanschl. gemeinsames Frühstück und der Tag zur freien Verfügung\nYogaeinheit 16:30 – 18:30 \nSonntag\nYogaeinheit 07:30 – 09:30\nanschl. gemeinsames Frühstück \nInkludierte Leistungen\nÜbernachtung\n12 Stunden Yoga mit Daniela\nRegionales Super-Frühstücksbuffet\nSauna & Relaxraum\nWlan\nBregenzerwald-Gäste-Karte\n\nPreis (pro Person)Einzelzimmer€ 352\,-+ Kurtaxe+ Yogabeitrag € 250\,-BuchenDoppelzimmer€ 275\,-+ Kurtaxe+ Yogabeitrag € 250\,-Buchen Deine Yogalehrerin \n									\n									\n									\n									\n								 Daniela Metelko \n									\n									\n									\n									\n								\n									\n									\n									\n									\n								NÄCHSTE \nretreatsZeit für Dich – entspannen im Bregenzerwald (1 Platz frei)14. Mai 2026 - 17. Mai 2026Kräuter\, kochen und Yoga – Kreiersalp26. Mai 2026 - 28. Mai 2026Yoga & Wandern 2026 (ausgebucht)12. Juni 2026 - 14. Juni 2026Apulien 2026 (ausgebucht)18. Juli 2026 - 24. Juli 2026
URL:https://yoga4all.at/event/zeit-fuer-dich-entspannen-im-bregenzerwald-26/
LOCATION:Hotel Bären\, Platz 66\, Mellau\, 6881\, Österreich
CATEGORIES:Retreat
ATTACH;FMTTYPE=image/jpeg:https://yoga4all.at/wp-content/uploads/2020/05/Yoga4all-Bregenzerwald.jpg
ORGANIZER;CN="Yoga4all":MAILTO:info@yoga4all.at
END:VEVENT
END:VCALENDAR