BEGIN:VCALENDAR
VERSION:2.0
PRODID:-//Yoga4all - ECPv6.15.20//NONSGML v1.0//EN
CALSCALE:GREGORIAN
METHOD:PUBLISH
X-WR-CALNAME:Yoga4all
X-ORIGINAL-URL:https://yoga4all.at
X-WR-CALDESC:Veranstaltungen für Yoga4all
REFRESH-INTERVAL;VALUE=DURATION:PT1H
X-Robots-Tag:noindex
X-PUBLISHED-TTL:PT1H
BEGIN:VTIMEZONE
TZID:Europe/Vienna
BEGIN:DAYLIGHT
TZOFFSETFROM:+0100
TZOFFSETTO:+0200
TZNAME:CEST
DTSTART:20250330T010000
END:DAYLIGHT
BEGIN:STANDARD
TZOFFSETFROM:+0200
TZOFFSETTO:+0100
TZNAME:CET
DTSTART:20251026T010000
END:STANDARD
BEGIN:DAYLIGHT
TZOFFSETFROM:+0100
TZOFFSETTO:+0200
TZNAME:CEST
DTSTART:20260329T010000
END:DAYLIGHT
BEGIN:STANDARD
TZOFFSETFROM:+0200
TZOFFSETTO:+0100
TZNAME:CET
DTSTART:20261025T010000
END:STANDARD
BEGIN:DAYLIGHT
TZOFFSETFROM:+0100
TZOFFSETTO:+0200
TZNAME:CEST
DTSTART:20270328T010000
END:DAYLIGHT
BEGIN:STANDARD
TZOFFSETFROM:+0200
TZOFFSETTO:+0100
TZNAME:CET
DTSTART:20271031T010000
END:STANDARD
END:VTIMEZONE
BEGIN:VEVENT
DTSTART;VALUE=DATE:20260526
DTEND;VALUE=DATE:20260529
DTSTAMP:20260425T123401
CREATED:20250814T074021Z
LAST-MODIFIED:20260125T165624Z
UID:14386-1779753600-1780012799@yoga4all.at
SUMMARY:Kräuter\, kochen und Yoga - Kreiersalp
DESCRIPTION:Kräuterwanderung & gemeinsames KochenIn der Natur liegt ein unerschöpflicher Schatz an Wildkräutern\, die uns nähren\, stärken und heilen können. \nAuf unserer geführten Kräuterwanderung lernen wir essbare Pflanzen in der Umgebung kennen\, entdecken ihre Wirkung und ihre Anwendungsmöglichkeiten in der Küche und Hausapotheke. Mit wachen Sinnen sammeln wir frische Kräuter und bereiten anschließend gemeinsam eine köstliche\, pflanzenbasierte Mahlzeit zu. Der Duft von Wald\, Wiese und frischem Grün begleitet uns vom Korb in den Kochtopf – für ein kulinarisches Erlebnis\, das Körper und Seele verbindet. \nPROGRAMMDienstag:15:00 Treffpunkt in der Alp inkl. Kennenlerndrink18:30 – 19:45 Yoga\, anschließend Abendessen \nMittwoch:07:30 – 08:45 Yoga anschl. Frühstückanschl. Kräuterwanderung und Kochengemeinsames Abendessenessen \nDonnerstag:07:30 – 08:45 Yoga anschl. Frühstück \nInkludierte Leistungen\n2 Übernachtung (Unterkunft im Apartment – 2 Bett Zimmer – insg. 8 Betten) inkl. Frühstück und Abendessen\nKräuterwanderung und Kochen\n3 Einheiten á 75 Min. Yoga mit Daniela\n\nPreis (pro Person)Unterkunft im Apartment mit je 2 Betten. \nGesamt gibt es 8 Betten. \nDoppelzimmer€ 349\,-inkl. Yogabeitrag € 124\,-Anfragen Deine Yogalehrerin \n									\n									\n									\n									\n								 Daniela Metelko
URL:https://yoga4all.at/event/kraeuterkochenkreiersalp-26/
LOCATION:Kreiersalp\, Hohenems\, Schuttannenstraße 13\, Hohenems\, 6845\, Austria
CATEGORIES:Retreat
ATTACH;FMTTYPE=image/jpeg:https://yoga4all.at/wp-content/uploads/2025/08/Kreiersalp-Haus-und-Berg.jpg
ORGANIZER;CN="Yoga4all":MAILTO:info@yoga4all.at
END:VEVENT
END:VCALENDAR