BEGIN:VCALENDAR
VERSION:2.0
PRODID:-//Yoga4all - ECPv6.15.20//NONSGML v1.0//EN
CALSCALE:GREGORIAN
METHOD:PUBLISH
X-WR-CALNAME:Yoga4all
X-ORIGINAL-URL:https://yoga4all.at
X-WR-CALDESC:Veranstaltungen für Yoga4all
REFRESH-INTERVAL;VALUE=DURATION:PT1H
X-Robots-Tag:noindex
X-PUBLISHED-TTL:PT1H
BEGIN:VTIMEZONE
TZID:Europe/Vienna
BEGIN:DAYLIGHT
TZOFFSETFROM:+0100
TZOFFSETTO:+0200
TZNAME:CEST
DTSTART:20250330T010000
END:DAYLIGHT
BEGIN:STANDARD
TZOFFSETFROM:+0200
TZOFFSETTO:+0100
TZNAME:CET
DTSTART:20251026T010000
END:STANDARD
BEGIN:DAYLIGHT
TZOFFSETFROM:+0100
TZOFFSETTO:+0200
TZNAME:CEST
DTSTART:20260329T010000
END:DAYLIGHT
BEGIN:STANDARD
TZOFFSETFROM:+0200
TZOFFSETTO:+0100
TZNAME:CET
DTSTART:20261025T010000
END:STANDARD
BEGIN:DAYLIGHT
TZOFFSETFROM:+0100
TZOFFSETTO:+0200
TZNAME:CEST
DTSTART:20270328T010000
END:DAYLIGHT
BEGIN:STANDARD
TZOFFSETFROM:+0200
TZOFFSETTO:+0100
TZNAME:CET
DTSTART:20271031T010000
END:STANDARD
END:VTIMEZONE
BEGIN:VEVENT
DTSTART;TZID=Europe/Vienna:20260716T180000
DTEND;TZID=Europe/Vienna:20260716T190000
DTSTAMP:20260425T162554
CREATED:20260323T160841Z
LAST-MODIFIED:20260323T160841Z
UID:15026-1784224800-1784228400@yoga4all.at
SUMMARY:Yoga am See\, Hard
DESCRIPTION:Sommer – Sonne – YogaIm wunderschönen Seepark auf der Wiese.\nFür alle Yogis aber auch für solche die es einfach mal ausprobieren möchten. \nInhaltYoga für alle. Egal ob jung oder alt\, Anfänger oder Fortgeschrittener\, Frau oder Mann. \nKostenlose Teilnahme. Keine Anmeldung notwendig. \nTreffpunkt: Wiese im Seepark (neben Spielplatz)\nNur bei Schönwetter. \nMitzubringen:\nYogamatte & Spaß \nTeilnahmebeitragkeine Anmeldung notwendig€ kostenfreiWeitere Terminejeweils von 18:00 – 19:00\nDo\, 16.07.26\nDo\, 13.08.26\nDi\, 01.09.26 \n\n									\n									\n									\n									\n								NÄCHSTE \nworkshopsYin Meridian Yoga – WS 531. Mai 2026 | 17:00 - 18:30Yoga am Schlossplatz\, Hohenems15. Juli 2026 | 18:15 - 19:15Yoga am See\, Hard16. Juli 2026 | 18:00 - 19:00Yoga am Schlossplatz\, Hohenems12. August 2026 | 18:15 - 19:15alle workshops
URL:https://yoga4all.at/event/yogaamsee-hard-160726/
LOCATION:Seepark\, Hard\, Seepark\, Hard\, 6971\, Österreich
CATEGORIES:Workshop Hard
ATTACH;FMTTYPE=image/jpeg:https://yoga4all.at/wp-content/uploads/2019/06/Yoga4all-Yoga-am-See.jpg
ORGANIZER;CN="Yoga4all":MAILTO:info@yoga4all.at
END:VEVENT
END:VCALENDAR