BEGIN:VCALENDAR
VERSION:2.0
PRODID:-//Yoga4all - ECPv6.15.20//NONSGML v1.0//EN
CALSCALE:GREGORIAN
METHOD:PUBLISH
X-ORIGINAL-URL:https://yoga4all.at
X-WR-CALDESC:Veranstaltungen für Yoga4all
REFRESH-INTERVAL;VALUE=DURATION:PT1H
X-Robots-Tag:noindex
X-PUBLISHED-TTL:PT1H
BEGIN:VTIMEZONE
TZID:Europe/Vienna
BEGIN:DAYLIGHT
TZOFFSETFROM:+0100
TZOFFSETTO:+0200
TZNAME:CEST
DTSTART:20250330T010000
END:DAYLIGHT
BEGIN:STANDARD
TZOFFSETFROM:+0200
TZOFFSETTO:+0100
TZNAME:CET
DTSTART:20251026T010000
END:STANDARD
BEGIN:DAYLIGHT
TZOFFSETFROM:+0100
TZOFFSETTO:+0200
TZNAME:CEST
DTSTART:20260329T010000
END:DAYLIGHT
BEGIN:STANDARD
TZOFFSETFROM:+0200
TZOFFSETTO:+0100
TZNAME:CET
DTSTART:20261025T010000
END:STANDARD
BEGIN:DAYLIGHT
TZOFFSETFROM:+0100
TZOFFSETTO:+0200
TZNAME:CEST
DTSTART:20270328T010000
END:DAYLIGHT
BEGIN:STANDARD
TZOFFSETFROM:+0200
TZOFFSETTO:+0100
TZNAME:CET
DTSTART:20271031T010000
END:STANDARD
END:VTIMEZONE
BEGIN:VEVENT
DTSTART;VALUE=DATE:20260807
DTEND;VALUE=DATE:20260810
DTSTAMP:20260425T184657
CREATED:20250814T094508Z
LAST-MODIFIED:20250814T114533Z
UID:14400-1786060800-1786319999@yoga4all.at
SUMMARY:Yogatastisch - Mediterrane Gerichte
DESCRIPTION:Mediterrane KücheTauche ein in 3 Tage voller Harmonie für Körper und Geist bei unserem einzigartigen Yoga & Koch Retreat. \nHier erwarten dich nicht nur intensive Yogaeinheiten\, sondern auch die Möglichkeit\, die Geschmäcke der mediterranen Küche zu entdecken. \nGemeinsam erleben wir diese vielfältige Welt. Tauch ein beim gemeinsamen Kochen und genießen in die gesellige Atmosphäre der mediterranen Küche\, während wir gemeinsam die zubereiteten Lebensmittel verkosten und uns an einem gemütlichen Abendessen erfreuen\, das von unseren eigenen Händen geschaffen wurde. \nZwischen den Aktivitäten habt ihr Zeit\, die natürliche Schönheit der Umgebung zu erkunden\, Spaziergänge zu machen oder einfach nur zu entspannen und die Ruhe zu genießen. \n“Viel Spass!” \nPROGRAMMSelbstanreise \nFreitag:\n14:00 Treffpunkt\n16:00- 17:30 Yoga\nanschl. Abendessen \nSamstag:\n07:00 – 08:30 Yoga\nanschl. gemeinsames Frühstück\nanschl. gemeinsamer Kochkurs\n16:00 – 17:30 Yoga\nanschl. gemeinsames Abendessen \nSonntag:\n07:00 – 08:30 Yoga\nanschl. gemeinsames Frühstück\nAbreise gegen 12:00 \nSpeise- und KochplanAbendessen 1:\nGrillenabend \nFrühstück:\nBrot\, frische Brötchen\, Müsli\, Wurst\, Käse\, Marmelade\, Honig\, Obst\, Jogurt\, etc. \nKoch-Workshop: \n-türkisches Börek \n-spanische Albondigas \n-italienische Sommerpasta \n-griechische Auberginenschnitzel \nInkludierte Leistungen\nUnterbringung im Seminarhaus FIBE (Einzel- oder Doppelzimmer)\n4 Yogaeinheiten laut Programm mit Stephie Schütz\nHalbpension (inkl. Koch-Workshop) (nicht vegan)\nTee\, Kaffee\, Obst\, Wasser\n\nPreis (pro Person)Einzel- oder Doppelzimmer€ 459\,-inkl. Yoga-Beitrag von € 130\,-inkl. Kaffee\, Tee\, Saft\, Wasserinkl. Lebensmittelbeitrag für Frühstück\, Abendessen und KochworkshopIch bin dabei! Deine Yogalehrerin \n									\n									\n									\n									\n								 Stephie
URL:https://yoga4all.at/event/yogatastisch-mediterrane-gerichte/
LOCATION:Seminarhaus Fibe\, Schwedenstrasse 4\, Laterns\, 6830\, Österreich
CATEGORIES:Retreat
ATTACH;FMTTYPE=image/jpeg:https://yoga4all.at/wp-content/uploads/2025/08/Yoga4all-Yogatastisch-Mediterrane-Kueche-1.jpg
ORGANIZER;CN="Yoga4all":MAILTO:info@yoga4all.at
END:VEVENT
END:VCALENDAR