BEGIN:VCALENDAR
VERSION:2.0
PRODID:-//Yoga4all - ECPv6.15.20//NONSGML v1.0//EN
CALSCALE:GREGORIAN
METHOD:PUBLISH
X-ORIGINAL-URL:https://yoga4all.at
X-WR-CALDESC:Veranstaltungen für Yoga4all
REFRESH-INTERVAL;VALUE=DURATION:PT1H
X-Robots-Tag:noindex
X-PUBLISHED-TTL:PT1H
BEGIN:VTIMEZONE
TZID:Europe/Vienna
BEGIN:DAYLIGHT
TZOFFSETFROM:+0100
TZOFFSETTO:+0200
TZNAME:CEST
DTSTART:20250330T010000
END:DAYLIGHT
BEGIN:STANDARD
TZOFFSETFROM:+0200
TZOFFSETTO:+0100
TZNAME:CET
DTSTART:20251026T010000
END:STANDARD
BEGIN:DAYLIGHT
TZOFFSETFROM:+0100
TZOFFSETTO:+0200
TZNAME:CEST
DTSTART:20260329T010000
END:DAYLIGHT
BEGIN:STANDARD
TZOFFSETFROM:+0200
TZOFFSETTO:+0100
TZNAME:CET
DTSTART:20261025T010000
END:STANDARD
BEGIN:DAYLIGHT
TZOFFSETFROM:+0100
TZOFFSETTO:+0200
TZNAME:CEST
DTSTART:20270328T010000
END:DAYLIGHT
BEGIN:STANDARD
TZOFFSETFROM:+0200
TZOFFSETTO:+0100
TZNAME:CET
DTSTART:20271031T010000
END:STANDARD
END:VTIMEZONE
BEGIN:VEVENT
DTSTART;VALUE=DATE:20260901
DTEND;VALUE=DATE:20260904
DTSTAMP:20260425T185359
CREATED:20250814T074844Z
LAST-MODIFIED:20250814T074844Z
UID:14397-1788220800-1788479999@yoga4all.at
SUMMARY:Yoga & Backen auf der Kreiersalp
DESCRIPTION:Backe\, backe – nein\, keinen Kuchen\, sondern Sauerteig & VollkornbrotAn diesem besonderen Tag tauchen wir gemeinsam ein in die ursprüngliche Kunst des Brotbackens. Mit viel Ruhe\, Hingabe und Zeit widmen wir uns dem traditionellen Sauerteig und lernen\, wie aus wenigen natürlichen Zutaten ein nahrhaftes\, aromatisches Vollkornbrot bzw. Sauerteigbrot entsteht. \nDu erfährst Wissenswertes über den Fermentationsprozess\, die Kraft des Getreides und das richtige Kneten und Formen. Neben dem praktischen Teil geht es auch um Achtsamkeit im Tun – ganz im Sinne der yogischen Lebensweise. \nAm Ende werden wir in gemütlicher Runde mit leckeren\, selbstgemachten Aufstrichen unser Werk genießen. \nPROGRAMMDienstag:\n15:00 Treffpunkt in der Alp inkl. Kennenlerndrink\n17:00 – 18:15 Yoga anschließend Abendessen \nMittwoch:\n07:30 – 08:15 Yoga anschl. Frühstück\nanschl. Backkurs\ngemeinsames Abendessenessen \nDonnerstag:\n07:30 – 08:15 Yoga anschl. Frühstück \nInkludierte Leistungen\n2 Übernachtung (Unterkunft im Apartment – 2 Bett Zimmer – insg. 8 Betten) inkl. Frühstück und Abendessen\nBackkurs\n3 Einheiten á 75 Min. Yoga mit Daniela\n\nPreis (pro Person)Unterkunft im Apartment mit je 2 Betten. \nGesamt gibt es 8 Betten. \nDoppelzimmer€ 349\,-inkl. Yogabeitrag € 124\,-Anfragen Deine Yogalehrerin \n									\n									\n									\n									\n								 Daniela Metelko
URL:https://yoga4all.at/event/yogabackenkreiersalp-26/
LOCATION:Kreiersalp\, Hohenems\, Schuttannenstraße 13\, Hohenems\, 6845\, Austria
CATEGORIES:Retreat
ATTACH;FMTTYPE=image/jpeg:https://yoga4all.at/wp-content/uploads/2025/08/Kreiersalp-Brot-im-Ofen.jpg
ORGANIZER;CN="Yoga4all":MAILTO:info@yoga4all.at
END:VEVENT
BEGIN:VEVENT
DTSTART;TZID=Europe/Vienna:20260901T180000
DTEND;TZID=Europe/Vienna:20260901T190000
DTSTAMP:20260425T185359
CREATED:20260323T161019Z
LAST-MODIFIED:20260323T161019Z
UID:15030-1788285600-1788289200@yoga4all.at
SUMMARY:Yoga am See\, Hard
DESCRIPTION:Sommer – Sonne – YogaIm wunderschönen Seepark auf der Wiese.\nFür alle Yogis aber auch für solche die es einfach mal ausprobieren möchten. \nInhaltYoga für alle. Egal ob jung oder alt\, Anfänger oder Fortgeschrittener\, Frau oder Mann. \nKostenlose Teilnahme. Keine Anmeldung notwendig. \nTreffpunkt: Wiese im Seepark (neben Spielplatz)\nNur bei Schönwetter. \nMitzubringen:\nYogamatte & Spaß \nTeilnahmebeitragkeine Anmeldung notwendig€ kostenfreiWeitere Terminejeweils von 18:00 – 19:00\nDo\, 16.07.26\nDo\, 13.08.26\nDi\, 01.09.26 \n\n									\n									\n									\n									\n								NÄCHSTE \nworkshopsYin Meridian Yoga – WS 531. Mai 2026 | 17:00 - 18:30Yoga am Schlossplatz\, Hohenems15. Juli 2026 | 18:15 - 19:15Yoga am See\, Hard16. Juli 2026 | 18:00 - 19:00Yoga am Schlossplatz\, Hohenems12. August 2026 | 18:15 - 19:15alle workshops
URL:https://yoga4all.at/event/yogaamsee-hard-010926/
LOCATION:Seepark\, Hard\, Seepark\, Hard\, 6971\, Österreich
CATEGORIES:Workshop Hard
ATTACH;FMTTYPE=image/jpeg:https://yoga4all.at/wp-content/uploads/2019/06/Yoga4all-Yoga-am-See.jpg
ORGANIZER;CN="Yoga4all":MAILTO:info@yoga4all.at
END:VEVENT
END:VCALENDAR