BEGIN:VCALENDAR
VERSION:2.0
PRODID:-//Yoga4all - ECPv6.15.20//NONSGML v1.0//EN
CALSCALE:GREGORIAN
METHOD:PUBLISH
X-ORIGINAL-URL:https://yoga4all.at
X-WR-CALDESC:Veranstaltungen für Yoga4all
REFRESH-INTERVAL;VALUE=DURATION:PT1H
X-Robots-Tag:noindex
X-PUBLISHED-TTL:PT1H
BEGIN:VTIMEZONE
TZID:Europe/Vienna
BEGIN:DAYLIGHT
TZOFFSETFROM:+0100
TZOFFSETTO:+0200
TZNAME:CEST
DTSTART:20250330T010000
END:DAYLIGHT
BEGIN:STANDARD
TZOFFSETFROM:+0200
TZOFFSETTO:+0100
TZNAME:CET
DTSTART:20251026T010000
END:STANDARD
BEGIN:DAYLIGHT
TZOFFSETFROM:+0100
TZOFFSETTO:+0200
TZNAME:CEST
DTSTART:20260329T010000
END:DAYLIGHT
BEGIN:STANDARD
TZOFFSETFROM:+0200
TZOFFSETTO:+0100
TZNAME:CET
DTSTART:20261025T010000
END:STANDARD
BEGIN:DAYLIGHT
TZOFFSETFROM:+0100
TZOFFSETTO:+0200
TZNAME:CEST
DTSTART:20270328T010000
END:DAYLIGHT
BEGIN:STANDARD
TZOFFSETFROM:+0200
TZOFFSETTO:+0100
TZNAME:CET
DTSTART:20271031T010000
END:STANDARD
END:VTIMEZONE
BEGIN:VEVENT
DTSTART;VALUE=DATE:20260910
DTEND;VALUE=DATE:20260914
DTSTAMP:20260425T203536
CREATED:20250814T071312Z
LAST-MODIFIED:20260217T135524Z
UID:14383-1788998400-1789343999@yoga4all.at
SUMMARY:Yoga trifft Kulinarik am Lago (ausgebucht)
DESCRIPTION:Yoga-Kulinarikreise an den Lago MaggioreErlebe einen wundervollen Aufenthalt in der romantischen Villa Morissolina. \nMit Antiquitäten eingerichtete Zimmer (grösstenteils mit Balkon und/oder Seeblick). So wird der Aufenthalt garantiert zu einem Erlebnis. Geniesse den herrlichen Blick auf den See und auf den Monte Morissolo – einfach „Dolce far niente“! \nInsgesamt gibt es “nur” 8 Doppelzimmer in der Villa. Daher ist eine Buchung im Doppelzimmer bevorzugt. Du kannst gerne einen Partnerwunsch angeben. Ansonsten  übernehmen wir die Zimmereinteilung. \nFrühstücksbuffet um 09:15. Es erwarten dich hausgemachte Marmeladen\, Wurst\, Käse\, Yoghurt\, frischer Fruchtsalat\, diverse Müslis\, Säfte und selbstgebackenes Brot. \nUnd das Highlight ist mit Sicherheit die Küche. Der Chef persönlich (Haubenkoch) zaubert uns jeden Abend ein Menü zum Dahinschmelzen. \nEntfernung zum Lago Maggiore:\nFußweg: 1 h 15 min\nAuto: 15 min \nPROGRAMMSelbstanreise \nDonnerstag: Ankunft ab 13:00 \nYogazeiten:\nDonnerstag: 17:00 – 18:15\nFreitag: 08:00 – 09:15 | 17:00 – 18:15\nSamstag: 08:00 – 09:15\nSonntag: 08:00 – 09:15 \nEssenszeiten:\n09:15 Frühstück\n19:00 Sensationelles\, haubenträchtiges 5-Gang Menü zum Abendessen \nSonntag – Ende ca. 12:00 \nAllgemeine InformationenPreis-Hinweise:\nPreis im Doppelzimmer pro Person/Aufenthalt: € 690\,-\nPreis im Einzelzimmer pro Person/Aufenthalt: € 810\,- \nZahlungsbedingungen:\n20 % Anzahlung bei Buchung\, 80 % Restzahlung 28 Tage vor Anreise \nStornobedingungen:\nAb Buchungsdatum bis 120 Tage vor Reiseantritt 20 % vom Reisepreis\n119 Tage bis 60 Tage vor Reiseantritt 50 % vom Reisepreis\n59 Tage bis 31 Tage vor Reiseantritt 75 % vom Reisepreis\n30 Tage bis 00 Tage oder Nichtanreise 100 % vom Reisepreis \nWir empfehlen den Reiseteilnehmern den Abschluss einer Storno- bzw. Reiseversicherung. \nDruckfehler\, Änderungen und Verfügbarkeiten vorbehalten \nInkludierte Leistungen\nUnterbringung in der Villa Morissolina\nYogaeinheiten laut Programm mit Daniela Metelko\nHalbpension (inkl. umwerfendem\, haubenverdächtigen\, 5-Gang Menü am Abend) (nicht vegan)\nTee\, Kaffee\, Obst\n\nPreis (pro Person)Doppelzimmer€ 690\,-Halbpension (inkl. 5-Gang-Abendmenü) (nicht vegan)SelbstanreiseAnfragenEinzelzimmer€ 810\,-Halbpension (inkl. 5-Gang-Abendmenü) (nicht vegan)SelbstanreiseAnfragen Deine Yogalehrerin \n									\n									\n									\n									\n								 Daniela Metelko
URL:https://yoga4all.at/event/yoga-trifft-kulinarik-am-lago/
LOCATION:Villa Morissolina\, Contrada San Mauro 6\, Trarego\, 28826\, Italien
CATEGORIES:Retreat
ATTACH;FMTTYPE=image/jpeg:https://yoga4all.at/wp-content/uploads/2022/11/villa-blick-auf-see-1.jpg
ORGANIZER;CN="Yoga4all":MAILTO:info@yoga4all.at
END:VEVENT
END:VCALENDAR