BEGIN:VCALENDAR
VERSION:2.0
PRODID:-//Yoga4all - ECPv6.15.20//NONSGML v1.0//EN
CALSCALE:GREGORIAN
METHOD:PUBLISH
X-WR-CALNAME:Yoga4all
X-ORIGINAL-URL:https://yoga4all.at
X-WR-CALDESC:Veranstaltungen für Yoga4all
REFRESH-INTERVAL;VALUE=DURATION:PT1H
X-Robots-Tag:noindex
X-PUBLISHED-TTL:PT1H
BEGIN:VTIMEZONE
TZID:Europe/Vienna
BEGIN:DAYLIGHT
TZOFFSETFROM:+0100
TZOFFSETTO:+0200
TZNAME:CEST
DTSTART:20250330T010000
END:DAYLIGHT
BEGIN:STANDARD
TZOFFSETFROM:+0200
TZOFFSETTO:+0100
TZNAME:CET
DTSTART:20251026T010000
END:STANDARD
BEGIN:DAYLIGHT
TZOFFSETFROM:+0100
TZOFFSETTO:+0200
TZNAME:CEST
DTSTART:20260329T010000
END:DAYLIGHT
BEGIN:STANDARD
TZOFFSETFROM:+0200
TZOFFSETTO:+0100
TZNAME:CET
DTSTART:20261025T010000
END:STANDARD
BEGIN:DAYLIGHT
TZOFFSETFROM:+0100
TZOFFSETTO:+0200
TZNAME:CEST
DTSTART:20270328T010000
END:DAYLIGHT
BEGIN:STANDARD
TZOFFSETFROM:+0200
TZOFFSETTO:+0100
TZNAME:CET
DTSTART:20271031T010000
END:STANDARD
END:VTIMEZONE
BEGIN:VEVENT
DTSTART;TZID=Europe/Vienna:20261101T170000
DTEND;TZID=Europe/Vienna:20261101T183000
DTSTAMP:20260425T221624
CREATED:20260102T122927Z
LAST-MODIFIED:20260105T124812Z
UID:14718-1793552400-1793557800@yoga4all.at
SUMMARY:Yin Meridian Yoga - WS 2
DESCRIPTION:Yoga im Rhythmus der JahreszeitenIn diesen Workshops verbinden wir Yin-Yoga mit dem wertvollen Wissen über die Meridiane aus der Traditionellen Chinesischen Medizin (TCM). \nDie Meridiane (Energiekanäle) leiten unsere Lebensenergie (Chi) durch den gesamten Körper und stehen in Verbindung mit den Organen sowie mit bestimmten Emotionen und Denkmustern. Mit darauf abgestimmten Yin Yoga Haltungen können wir den Fluss von Chi in den Meridianen harmonisieren\, um das Gleichgewicht von körperlicher und mentaler Gesundheit zu unterstützen. Atemübungen und Mediationen runden das Entspannungsprogramm ab. \nEs handelt sich um eine Workshopreihe\, wobei die Workshops auch EINZELN besucht werden können. \nOrtYoga4all\, Hohenems \nWorkshop (einzeln)€ 49\,-90 Min.BuchenWorkshop (alle 5)€ 219\,-450 Min.BuchenWorkshop 2 – Herbst:\nElement Metall – Meridiane Lunge und DickdarmDer Herbst ist bekanntlich eine Zeit des Wandels. In der Natur fallen die Blätter\, die Energien ziehen sich nach innen zurück\, die Tage werden kürzer und ruhiger. Das Metallelement lädt auch uns ein\, innezuhalten und uns auf das Wesentliche zu konzentrieren. Beim Dickdarm geht es ums Festhalten und Loslassen. Er lehrt uns zu erkennen\, wann wir an etwas festhalten können und wann wir es besser loslassen sollten – dabei geht es auch um Abgrenzung. Die Lunge ist nicht nur für die Atmung zuständig. Die Lunge steht für den Rhythmus des Lebens. Sie hilft uns\, zuversichtlich\, offen und klar dem Fluss des Lebens zu vertrauen. \nWeitere WorkshopsWS 1 Spätsommer: Element Erde – Meridiane Milz und Magen (27.09.26)\nWS 2 Herbst: Element Metall – Meridiane Lunge und Dickdarm (01.11.26)\nWS 3 Winter: Element Wasser – Meridiane Niere und Blase (10.01.27)\nWS 4 Frühling: Element Holz – Meridiane Leber und Gallenblase (07.03.27)\nWS 5 Sommer: Element Feuer – Meridiane Herz und Dünndarm (06.06.27) \n Deine Yogalehrerin \n									\n									\n									\n									\n								 Simone \n									\n									\n									\n									\n								Gesundheit\, Wohlbefinden und Freude schenken\n									\n									\n									\n									\n								NÄCHSTE \nworkshopsYoga am Schlossplatz\, Hohenems15. Juli 2026 | 18:15 - 19:15Yoga am Schlossplatz\, Hohenems12. August 2026 | 18:15 - 19:15Yoga am Schlossplatz\, Hohenems2. September 2026 | 18:15 - 19:15Yin Meridian Yoga – WS 127. September 2026 | 17:00 - 18:30alle workshops
URL:https://yoga4all.at/event/yin-meridian-yoga-ws2-ems/
LOCATION:Yoga4all Hohenems\, Bergstrasse 3a\, Hohenems\, 6845\, Österreich
CATEGORIES:Workshop Hohenems
ATTACH;FMTTYPE=image/jpeg:https://yoga4all.at/wp-content/uploads/2025/01/Yoga4all-Yin-Yoga-Workshop-Titelbild.jpg
ORGANIZER;CN="Yoga4all":MAILTO:info@yoga4all.at
END:VEVENT
END:VCALENDAR