BEGIN:VCALENDAR
VERSION:2.0
PRODID:-//Yoga4all - ECPv6.15.20//NONSGML v1.0//EN
CALSCALE:GREGORIAN
METHOD:PUBLISH
X-ORIGINAL-URL:https://yoga4all.at
X-WR-CALDESC:Veranstaltungen für Yoga4all
REFRESH-INTERVAL;VALUE=DURATION:PT1H
X-Robots-Tag:noindex
X-PUBLISHED-TTL:PT1H
BEGIN:VTIMEZONE
TZID:Europe/Vienna
BEGIN:DAYLIGHT
TZOFFSETFROM:+0100
TZOFFSETTO:+0200
TZNAME:CEST
DTSTART:20250330T010000
END:DAYLIGHT
BEGIN:STANDARD
TZOFFSETFROM:+0200
TZOFFSETTO:+0100
TZNAME:CET
DTSTART:20251026T010000
END:STANDARD
BEGIN:DAYLIGHT
TZOFFSETFROM:+0100
TZOFFSETTO:+0200
TZNAME:CEST
DTSTART:20260329T010000
END:DAYLIGHT
BEGIN:STANDARD
TZOFFSETFROM:+0200
TZOFFSETTO:+0100
TZNAME:CET
DTSTART:20261025T010000
END:STANDARD
BEGIN:DAYLIGHT
TZOFFSETFROM:+0100
TZOFFSETTO:+0200
TZNAME:CEST
DTSTART:20270328T010000
END:DAYLIGHT
BEGIN:STANDARD
TZOFFSETFROM:+0200
TZOFFSETTO:+0100
TZNAME:CET
DTSTART:20271031T010000
END:STANDARD
END:VTIMEZONE
BEGIN:VEVENT
DTSTART;TZID=Europe/Vienna:20261212T093000
DTEND;TZID=Europe/Vienna:20261212T103000
DTSTAMP:20260426T015430
CREATED:20260316T101044Z
LAST-MODIFIED:20260316T101732Z
UID:14928-1797067800-1797071400@yoga4all.at
SUMMARY:Familienyoga 12.12.26\, Hohenems
DESCRIPTION:ÜberFür alle Mamas\, Papas\, Omas\, Opas\, Tanten und Onkel\, die gerne Zeit mit ihren Kindern verbringen möchten. Der Spass steht in unserer Yogastunde für Groß und Klein im Vordergrund. \nInhaltMit der ganzen Familie tauchen wir ein ins Abenteuer Yoga – gemeinsam begrüßen wir die Sonne\, im Boot begegnen wir allerlei Tieren und vor lauter Bäumen sehen wir den Wald nicht mehr! \nWorkshopbeitragKleinkinder bis 2 Jahre können natürlich auch mitmachen. Kostenfrei! \nErwachsene€ 17\,-BuchenKinder (ab 2 Jahre)11\,-BuchenWeitere TermineHard:\n14.11.26\n27.02.27\n10.04.27 \nHohenems:\n17.10.26\n12.12.26\n13.03.27 \n Deine Yogalehrerin \n									\n									\n									\n									\n								 Petra \n									\n									\n									\n									\n								Gesundheit\, Wohlbefinden und Freude schenken\n									\n									\n									\n									\n								NÄCHSTE \nworkshopsYin Meridian Yoga – WS 531. Mai 2026 | 17:00 - 18:30Yoga am Schlossplatz\, Hohenems15. Juli 2026 | 18:15 - 19:15Yoga am See\, Hard16. Juli 2026 | 18:00 - 19:00Yoga am Schlossplatz\, Hohenems12. August 2026 | 18:15 - 19:15alle workshops
URL:https://yoga4all.at/event/familienyoga-121226/
LOCATION:Yoga4all Hohenems\, Bergstrasse 3a\, Hohenems\, 6845\, Österreich
CATEGORIES:Workshop Hohenems
ATTACH;FMTTYPE=image/jpeg:https://yoga4all.at/wp-content/uploads/2020/03/Familienyoga-2.jpeg
ORGANIZER;CN="Yoga4all":MAILTO:info@yoga4all.at
END:VEVENT
END:VCALENDAR