BEGIN:VCALENDAR
VERSION:2.0
PRODID:-//Yoga4all - ECPv6.15.20//NONSGML v1.0//EN
CALSCALE:GREGORIAN
METHOD:PUBLISH
X-WR-CALNAME:Yoga4all
X-ORIGINAL-URL:https://yoga4all.at
X-WR-CALDESC:Veranstaltungen für Yoga4all
REFRESH-INTERVAL;VALUE=DURATION:PT1H
X-Robots-Tag:noindex
X-PUBLISHED-TTL:PT1H
BEGIN:VTIMEZONE
TZID:Europe/Vienna
BEGIN:DAYLIGHT
TZOFFSETFROM:+0100
TZOFFSETTO:+0200
TZNAME:CEST
DTSTART:20260329T010000
END:DAYLIGHT
BEGIN:STANDARD
TZOFFSETFROM:+0200
TZOFFSETTO:+0100
TZNAME:CET
DTSTART:20261025T010000
END:STANDARD
BEGIN:DAYLIGHT
TZOFFSETFROM:+0100
TZOFFSETTO:+0200
TZNAME:CEST
DTSTART:20270328T010000
END:DAYLIGHT
BEGIN:STANDARD
TZOFFSETFROM:+0200
TZOFFSETTO:+0100
TZNAME:CET
DTSTART:20271031T010000
END:STANDARD
BEGIN:DAYLIGHT
TZOFFSETFROM:+0100
TZOFFSETTO:+0200
TZNAME:CEST
DTSTART:20280326T010000
END:DAYLIGHT
BEGIN:STANDARD
TZOFFSETFROM:+0200
TZOFFSETTO:+0100
TZNAME:CET
DTSTART:20281029T010000
END:STANDARD
END:VTIMEZONE
BEGIN:VEVENT
DTSTART;VALUE=DATE:20270108
DTEND;VALUE=DATE:20270607
DTSTAMP:20260426T030731
CREATED:20260114T140312Z
LAST-MODIFIED:20260406T092138Z
UID:14817-1799366400-1812326399@yoga4all.at
SUMMARY:Yogaausbildung mit therapeutischem Ansatz
DESCRIPTION:ÜberDie Yogaausbildung mit therapeutischem Ansatz richtet sich an erfahrene Yoga-Praktizierende und auch YogalehrerInnen\, die ihr Wissen erweitern und ihre eigene Praxis vertiefen möchten. Zertifiziert durch American Yoga Alliance (AYA). \nHierbei handelt es sich um eine reine Aus- und Weiterbildung (inkl. AYA-Zertifikat) – keine Yogalehrer-Ausbildung. \nInhaltZiel dieser speziellen Ausbildung ist es vor allem grundlegende Körperbereiche genauer unter die Lupe zu nehmen. Was tut z.B. dem Lendenbereich gut\, was sollte man vermeiden. \nSelbstverständlich steht das theoretische Auffrischen von aktuellem Wissen im Vordergrund. Zusätzlich werden die Inhalte sehr aktiv und bewusst auch in die eigene Praxis einfließen. \nIm Bereich Yoga wird dieses Wissen von einer erfahrenen Yogalehrerin vertieft und dadurch die eigene Praxis verbessert. Hinzu kommen Erkenntnisse aus der Physiotherapie und aus der traditionellen chinesischen Medizin. \nIn den einzelnen Themenbereichen wird Daniela Metelko-Micheluzzi dabei von einem Sporttherapeuten (Florian Küng) und einer Therapeutin der traditionell chinesischen Medizin (Yvonne Lamprecht-Hahn) unterstützt und begleitet. Alle Referentinnen werden ihr Wissen und ihre Erfahrungen an die Teilnehmer strukturiert und mit Leidenschaft weitergeben. \nDie Ausbildung umfasst 100 Unterrichtseinheiten. Sie ermöglicht Berufstätigen die Teilnahme sehr einfach\, da die Einheiten auf Wochenenden aufgeteilt sind. Die einzelnen Wochenenden beinhalten Theorie\, sehr viel Praxis und thematische Schwerpunkte. Die Vermittlung von medizinisch-theoretischem Grundlagenwissen wird sich mit viel eigener Praxis abwechseln. \nDanach wird deine Yogapraxis durch therapeutische Ansätze ergänzt. \nThemenGrundlegendes: \n\nAusrichtungsringe\nHasta Bandha und Pada Bandha\nBeweglichkeit in den Gelenken\nAusrichtungsprinzipien\nEinstellung\, Ausrichtung\, Aktion\nAdjustment\n\nAnatomisches Wissen: \n\nDer Bewegungsapparat – grundlegendes Wissen\nStrukturen und die Unterschiede in ihrer Funktion (Knochen\, Knorpel\, Bandscheiben\, Menisken\, Muskeln\, Faszien\, Sehnen und Bänder)\nSchmerz – „Warnsignal oder Red Flag“?\nAnatomie und Palpation (Halswirbelsäule\, Brustwirbelsäule\, Lendenbereich)\nEinblicke in die Biomechanik einzelner Gelenke\nÜberlastungen und mögliche Verletzungsgefahren beim Yoga\nAsanas/Übungen: Wie kann ich aktiv Verletzungen vorbeugen oder sogar helfen sie zu lindern?\nSpaß am Yoga trotz Verletzung?\n\nHalswirbelsäule/Brustwirbelsäule/Lendenwirbelsäule/Knie + Füße/Hüfte/Schultern/Ellenbogen + Hände: \n\nAnatomie\nWelche Übungen sind gut\nWelche Übungen sollte man vermeiden\nAusrichtungsringe speziell dazu\nAdjustment dazu\n\nTraditionelle chinesische Medizin: \n\nKurze Einführung in die Traditionell chinesische Medizin\n\nDie 5 Säulen der TCM\nDie Lehre von Yin & Yang- nicht nur ein bloßes Symbol\nDie 3 Schätze der TCM\n\n\nReiseführer in das Meridiansystem der Chin. Medizin\n\nVerlauf der Meridiane\nMeridian- Dehnübungen & Zuordnung von Yogaübungen zu entsprechenden Meridianen- Erkenne durch die Yogapraxis\, welche Meridiane gedehnt werden.\n\n\nElement- Zuordnungen\n\nFusion der Meridiane & der Elemente: Kategorisierung der Meridiane in die entsprechenden Elemente\nAllgemeine Pathologiezuordnungen zu den entsprechenden Elementkreisen Lebenshaltung = Das Leben nähren: Ein Leben im Einklang mit der Natur der Elemente\n\n\n\nPranayama (Atemtechniken): \n\nVerschiedene Atemtechniken\nWie übt man Pranayama\nWas bewirkt es\n\nDein AusbildungsteamDaniela Metelko-Micheluzzi\nDipl. Yogalehrerin und Yogatherapeutin\, leitet diverse Kurse\, Workshops und Retreat. U.a. im Bereich Yoga mit therapeutischem Ansatz. Sie führt seit 2009 zwei Yogastudios in Hohenems und Hard. \nDaniela ist die Kursleiterin und vermittelt in dieser Ausbildung Yoga mit therapeutischem Ansatz. Durch ihren 2-fachen Bandscheibenvorfall verfügt sie über enormes Wissen\, wie Yoga helfen kann. Seit 9 Jahren arbeitet sie mit dem Landeskrankenhaus Feldkirch und Hohenems eng zusammen. Sie unterrichtet dort Mitarbeiter und wird als Yogatherapeutin an Patienten empfohlen. \nYvonne Lamprecht- Hahn\nDie diplomierte TCM-Therapeutin\, führt seit über 5 Jahren eine TCM-Praxis in der Schweiz. Durch ihre eigene gesundheitliche Vergangenheit\, hat sie es sich zum Ziel gesetzt\, vor allem chronische Erkrankungen von der Wurzel her zu behandeln. Durch zahlreiche Ausbildungen rund um den Bereichen der klassisch chinesischen Medizin und diversen Praktika im In- und Ausland\, entwickelte sie in dieser Zeit ein ganzheitliches Behandlungskonzept.\nIn dieser Ausbildung ist Yvonne eine Art Reiseführerin durch die Welt der traditionell chinesischen Medizin (TCM)\, indem sie durch die Bereiche der Meridiane\, durch Konzepte der chinesischen Medizin und die Elemente-Lehre führen wird. \nFlorian Küng\nManuelle Therapie trifft auf Sportwissenschaft und der Leidenschaft für Bewegung. \nFlorian ist seit 2003 Trainer und konnte in div. Stationen vom Hobby- bis zum Profisport viele Erfahrungen sammeln. Er hat einen Abschluss der Bundessportakademie Österreich\, unzählige Weiterbildungen\, ist Masseur (Schwerpunkt: Myofaszial- & Lymphsystem) und betreibt ein Gym\, in dem Alltagshelden wie Profisportler gleichermaßen ihre Basisathletik trainieren. Als Therapeut ist er spezialisiert auf Schmerz und die Wiederherstellung von Bewegungen. \nFasziniert von der ganzheitlichen Betrachtungsweise des Menschen wird er in dieser Ausbildung den medizinischen Hintergrund erläutern\, auf mögliche Verletzungsgefahren und Überlastungen im Yoga hinweisen. Neben den Grundlagen der Anatomie gewährt er Einblicke in Strukturen\, Biomechanik\, Palpation und die übergeordnete Rolle des Nervensystems in Bewegungen. \nAnmeldung\nbitte sende deine verbindliche Anmeldung mit Rechnungsadresse über den “Anfrage”-Button oberhalb\nmaximal für 3 Wochen werden Ausbildungsplätze reserviert\nes gelten die AGBs von Yoga4all\n\nAusbildungskosten100 Stunden (AYA zertifiziert)€ 1990\,-(inkl. 20 % MwSt.)AnfrageTermine08.01.2027 – 10.01.2027 (Daniela)\n05.02.2027 – 07.02.2027 (Florian + Daniela)\n05.03.2027 – 07.03.2027 (Yvonne + Daniela)\n02.04.2027 – 04.04.2027 (Daniela)\n18.06.2027 – 20.06.2027 (Daniela) \nAusbildungszeiten gemäß AYA Richtlinien 50 Minuten 1 UEFreitag: 13:30 – 17:30\nSamstag: 10:00 – 17:00 (1 h Mittagspause)\nSonntag: 09:00 – 15:00 (1 h Mittagspause) \nAusbildungsortYoga4all\, Bergstrasse 3a\, A-6845 Hohenems \nMindestteilnehmerzahl8 Teilnehmer \n Dein Ausbildungsteam \n									\n									\n									\n									\n								 Daniela  Florian  Yvonne
URL:https://yoga4all.at/event/yogaausbildung-therapeutischem-ansatz-27-vorarlberg/
LOCATION:Yoga4all Hohenems\, Bergstrasse 3a\, Hohenems\, 6845\, Österreich
CATEGORIES:Yogalehrer Ausbildung
ATTACH;FMTTYPE=image/jpeg:https://yoga4all.at/wp-content/uploads/2021/02/Yoga4all-Yoga-therapeutischem-Ansatz-Titelfoto.jpg
ORGANIZER;CN="Yoga4all":MAILTO:info@yoga4all.at
END:VEVENT
END:VCALENDAR