BEGIN:VCALENDAR
VERSION:2.0
PRODID:-//Yoga4all - ECPv6.15.20//NONSGML v1.0//EN
CALSCALE:GREGORIAN
METHOD:PUBLISH
X-ORIGINAL-URL:https://yoga4all.at
X-WR-CALDESC:Veranstaltungen für Yoga4all
REFRESH-INTERVAL;VALUE=DURATION:PT1H
X-Robots-Tag:noindex
X-PUBLISHED-TTL:PT1H
BEGIN:VTIMEZONE
TZID:Europe/Vienna
BEGIN:DAYLIGHT
TZOFFSETFROM:+0100
TZOFFSETTO:+0200
TZNAME:CEST
DTSTART:20250330T010000
END:DAYLIGHT
BEGIN:STANDARD
TZOFFSETFROM:+0200
TZOFFSETTO:+0100
TZNAME:CET
DTSTART:20251026T010000
END:STANDARD
BEGIN:DAYLIGHT
TZOFFSETFROM:+0100
TZOFFSETTO:+0200
TZNAME:CEST
DTSTART:20260329T010000
END:DAYLIGHT
BEGIN:STANDARD
TZOFFSETFROM:+0200
TZOFFSETTO:+0100
TZNAME:CET
DTSTART:20261025T010000
END:STANDARD
BEGIN:DAYLIGHT
TZOFFSETFROM:+0100
TZOFFSETTO:+0200
TZNAME:CEST
DTSTART:20270328T010000
END:DAYLIGHT
BEGIN:STANDARD
TZOFFSETFROM:+0200
TZOFFSETTO:+0100
TZNAME:CET
DTSTART:20271031T010000
END:STANDARD
END:VTIMEZONE
BEGIN:VEVENT
DTSTART;VALUE=DATE:20260612
DTEND;VALUE=DATE:20260615
DTSTAMP:20260425T124452
CREATED:20250616T150906Z
LAST-MODIFIED:20251216T084052Z
UID:14298-1781222400-1781481599@yoga4all.at
SUMMARY:Yoga & Wandern 2026 (ausgebucht)
DESCRIPTION:Yoga Kurzurlaub – wandern\, wohlfühlen und entspannenKomm‘ mit ins 4*s Aktiv- & Wellnesshotel Haidachhof (Fügen\, Tirol). \nProgrammFreitag:\n16:00 Treffpunkt an der Bar\n17:00 – 18:15 Yoga\nanschl. Abendessen \nSamstag +Sonntag:\n08:00 – 09:15 Yoga\nanschl. Frühstück\nAbendessen (am Samstag) \nRest zur freien Verfügung (z.B. im wunderschönen Wellnessbereich\, oder in der sagenhaften Bergwelt des Zillertals) \nBei Interesse findet am Samstag eine ca. 3-stündige Wanderung mit dem Chef des Hauses “Heinz” statt. (Voranmeldung notwendig) (Liftkosten sind selbst zu bezahlen) \nPreis (pro Person)Einzelzimmer€ 404\,-+ Kurtaxe+ Yogabeitrag € 109\,-der Zimmerpreis kann sich noch geringfügig ändernBuchenDoppelzimmer€ 352\,-+ Kurtaxe+ Yogabeitrag € 109\,-der Zimmerpreis kann sich noch geringfügig ändernBuchenJuniorsuite (2er)€ 374\,-+ Kurtaxe+ Yogabeitrag € 109\,-der Zimmerpreis kann sich noch geringfügig ändernBuchenFamilien-Nesterl (4er)€ 410\,-+ Kurtaxe+ Yogabeitrag € 109\,-der Zimmerpreis kann sich noch geringfügig ändernBuchenInkludierte Leistungen\nca. 4 Stunden Yoga mit Daniela Metelko-Micheluzzi\nHalbpension\nNachmittagsjause\ngroße\, komfortable Zimmer\nReichhaltiges Frühstücksbuffet\nAbend-Wahlbuffet\nWellnessbereich\nBademantel\, Yogamatte & Saunahandtücher am Zimmer\nbei Interesse geführte Wanderung\n\n Deine Yogalehrerin \n									\n									\n									\n									\n								 Daniela Metelko \n									\n									\n									\n									\n								\n									\n									\n									\n									\n								NÄCHSTE \nretreatsZeit für Dich – entspannen im Bregenzerwald (1 Platz frei)14. Mai 2026 - 17. Mai 2026Kräuter\, kochen und Yoga – Kreiersalp26. Mai 2026 - 28. Mai 2026Yoga & Wandern 2026 (ausgebucht)12. Juni 2026 - 14. Juni 2026Apulien 2026 (ausgebucht)18. Juli 2026 - 24. Juli 2026
URL:https://yoga4all.at/event/yoga-wandern-26/
LOCATION:Aktiv- & Wellnesshotel Haidachhof\, Fügen\, Tirol\, Österreich
CATEGORIES:Retreat
ATTACH;FMTTYPE=image/jpeg:https://yoga4all.at/wp-content/uploads/2022/01/Yoga4all-Berge-Wandern-103-web.jpg
ORGANIZER;CN="Yoga4all":MAILTO:info@yoga4all.at
END:VEVENT
END:VCALENDAR